BEGIN:VCALENDAR
VERSION:2.0
PRODID:icalendar-ruby
CALSCALE:GREGORIAN
METHOD:PUBLISH
BEGIN:VEVENT
DTSTAMP:20260421T140345Z
UID:33-13700199@test.churchos.ca
DTSTART:20260611T220000Z
DTEND:20260611T230000Z
CLASS:PUBLIC
CREATED:20260421T055013
DESCRIPTION:Knitting Club
LAST-MODIFIED:20260421T055013
LOCATION:
SUMMARY:Knitting Club
URL;VALUE=URI:https://test.churchos.ca/events/knitting-club/2026-06-11
END:VEVENT
END:VCALENDAR
