BEGIN:VCALENDAR
VERSION:2.0
PRODID:icalendar-ruby
CALSCALE:GREGORIAN
METHOD:PUBLISH
BEGIN:VEVENT
DTSTAMP:20260421T153422Z
UID:33-13706721@test.churchos.ca
DTSTART:20260618T220000Z
DTEND:20260618T230000Z
CLASS:PUBLIC
CREATED:20260421T082620
DESCRIPTION:Knitting Club
LAST-MODIFIED:20260421T082620
LOCATION:
SUMMARY:Knitting Club
URL;VALUE=URI:https://test.churchos.ca/events/knitting-club/2026-06-18
END:VEVENT
END:VCALENDAR
