BEGIN:VCALENDAR
VERSION:2.0
PRODID:icalendar-ruby
CALSCALE:GREGORIAN
METHOD:PUBLISH
BEGIN:VEVENT
DTSTAMP:20260421T195735Z
UID:33-13713245@test.churchos.ca
DTSTART:20260709T220000Z
DTEND:20260709T230000Z
CLASS:PUBLIC
CREATED:20260421T110611
DESCRIPTION:Knitting Club
LAST-MODIFIED:20260421T110611
LOCATION:
SUMMARY:Knitting Club
URL;VALUE=URI:https://test.churchos.ca/events/knitting-club/2026-07-09
END:VEVENT
END:VCALENDAR
