BEGIN:VCALENDAR
VERSION:2.0
PRODID:icalendar-ruby
CALSCALE:GREGORIAN
METHOD:PUBLISH
BEGIN:VEVENT
DTSTAMP:20260421T224635Z
UID:33-13719768@test.churchos.ca
DTSTART:20260723T220000Z
DTEND:20260723T230000Z
CLASS:PUBLIC
CREATED:20260421T134211
DESCRIPTION:Knitting Club
LAST-MODIFIED:20260421T134211
LOCATION:
SUMMARY:Knitting Club
URL;VALUE=URI:https://test.churchos.ca/events/knitting-club/2026-07-23
END:VEVENT
END:VCALENDAR
