BEGIN:VCALENDAR
VERSION:2.0
PRODID:icalendar-ruby
CALSCALE:GREGORIAN
METHOD:PUBLISH
BEGIN:VEVENT
DTSTAMP:20260422T015144Z
UID:33-13726291@test.churchos.ca
DTSTART:20260806T220000Z
DTEND:20260806T230000Z
CLASS:PUBLIC
CREATED:20260421T162046
DESCRIPTION:Knitting Club
LAST-MODIFIED:20260421T162046
LOCATION:
SUMMARY:Knitting Club
URL;VALUE=URI:https://test.churchos.ca/events/knitting-club/2026-08-06
END:VEVENT
END:VCALENDAR
