BEGIN:VCALENDAR
VERSION:2.0
PRODID:icalendar-ruby
CALSCALE:GREGORIAN
METHOD:PUBLISH
BEGIN:VEVENT
DTSTAMP:20260422T113813Z
UID:33-13732818@test.churchos.ca
DTSTART:20260917T220000Z
DTEND:20260917T230000Z
CLASS:PUBLIC
CREATED:20260422T031548
DESCRIPTION:Knitting Club
LAST-MODIFIED:20260422T031548
LOCATION:
SUMMARY:Knitting Club
URL;VALUE=URI:https://test.churchos.ca/events/knitting-club/2026-09-17
END:VEVENT
END:VCALENDAR
