BEGIN:VCALENDAR
VERSION:2.0
PRODID:icalendar-ruby
CALSCALE:GREGORIAN
METHOD:PUBLISH
BEGIN:VEVENT
DTSTAMP:20260422T130205Z
UID:33-13732819@test.churchos.ca
DTSTART:20260924T220000Z
DTEND:20260924T230000Z
CLASS:PUBLIC
CREATED:20260422T031548
DESCRIPTION:Knitting Club
LAST-MODIFIED:20260422T031548
LOCATION:
SUMMARY:Knitting Club
URL;VALUE=URI:https://test.churchos.ca/events/knitting-club/2026-09-24
END:VEVENT
END:VCALENDAR
