BEGIN:VCALENDAR
VERSION:2.0
PRODID:icalendar-ruby
CALSCALE:GREGORIAN
METHOD:PUBLISH
BEGIN:VEVENT
DTSTAMP:20260422T143805Z
UID:33-13739344@test.churchos.ca
DTSTART:20261001T220000Z
DTEND:20261001T230000Z
CLASS:PUBLIC
CREATED:20260422T061000
DESCRIPTION:Knitting Club
LAST-MODIFIED:20260422T061000
LOCATION:
SUMMARY:Knitting Club
URL;VALUE=URI:https://test.churchos.ca/events/knitting-club/2026-10-01
END:VEVENT
END:VCALENDAR
