BEGIN:VCALENDAR
VERSION:2.0
PRODID:icalendar-ruby
CALSCALE:GREGORIAN
METHOD:PUBLISH
BEGIN:VEVENT
DTSTAMP:20260422T161049Z
UID:33-13745867@test.churchos.ca
DTSTART:20261008T220000Z
DTEND:20261008T230000Z
CLASS:PUBLIC
CREATED:20260422T090524
DESCRIPTION:Knitting Club
LAST-MODIFIED:20260422T090524
LOCATION:
SUMMARY:Knitting Club
URL;VALUE=URI:https://test.churchos.ca/events/knitting-club/2026-10-08
END:VEVENT
END:VCALENDAR
