BEGIN:VCALENDAR
VERSION:2.0
PRODID:icalendar-ruby
CALSCALE:GREGORIAN
METHOD:PUBLISH
BEGIN:VEVENT
DTSTAMP:20260420T050545Z
UID:19-13647535@test.churchos.ca
DTSTART:20260814T030000Z
DTEND:20260814T050000Z
CLASS:PUBLIC
CREATED:20260419T214542
DESCRIPTION:Sr. High Youth Group
LAST-MODIFIED:20260419T214542
LOCATION:
SUMMARY:Sr. High Youth Group
URL;VALUE=URI:https://test.churchos.ca/events/sr-high-youth-group/2026-08-1
 3
ATTACH;FILENAME=YOUTH.png;FMTTYPE=image/png:https://dq5pwpg1q8ru0.cloudfron
 t.net/2016/09/06/13/58/07/21564bb8-9c7d-4bae-89a6-d707014ff685/YOUTH.png
END:VEVENT
END:VCALENDAR
