BEGIN:VCALENDAR
VERSION:2.0
PRODID:icalendar-ruby
CALSCALE:GREGORIAN
METHOD:PUBLISH
BEGIN:VEVENT
DTSTAMP:20260422T100117Z
UID:18-13725256@test.churchos.ca
DTSTART:20260817T000000Z
DTEND:20260817T010000Z
CLASS:PUBLIC
CREATED:20260421T162043
DESCRIPTION:Test
LAST-MODIFIED:20260421T162043
LOCATION:
SUMMARY:Test
URL;VALUE=URI:https://test.churchos.ca/events/test--18/2026-08-16
END:VEVENT
END:VCALENDAR
