BEGIN:VCALENDAR
VERSION:2.0
PRODID:icalendar-ruby
CALSCALE:GREGORIAN
METHOD:PUBLISH
BEGIN:VEVENT
DTSTAMP:20260422T141838Z
UID:18-13738304@test.churchos.ca
DTSTART:20260907T000000Z
DTEND:20260907T010000Z
CLASS:PUBLIC
CREATED:20260422T060957
DESCRIPTION:Test
LAST-MODIFIED:20260422T060957
LOCATION:
SUMMARY:Test
URL;VALUE=URI:https://test.churchos.ca/events/test--18/2026-09-06
END:VEVENT
END:VCALENDAR
