BEGIN:VCALENDAR
VERSION:2.0
PRODID:icalendar-ruby
CALSCALE:GREGORIAN
METHOD:PUBLISH
BEGIN:VEVENT
DTSTAMP:20260422T192213Z
UID:18-13751351@test.churchos.ca
DTSTART:20260928T000000Z
DTEND:20260928T010000Z
CLASS:PUBLIC
CREATED:20260422T115943
DESCRIPTION:Test
LAST-MODIFIED:20260422T115943
LOCATION:
SUMMARY:Test
URL;VALUE=URI:https://test.churchos.ca/events/test--18/2026-09-27
END:VEVENT
END:VCALENDAR
