BEGIN:VCALENDAR
VERSION:2.0
PRODID:icalendar-ruby
CALSCALE:GREGORIAN
METHOD:PUBLISH
BEGIN:VEVENT
DTSTAMP:20260422T204959Z
UID:18-13751352@test.churchos.ca
DTSTART:20261005T000000Z
DTEND:20261005T010000Z
CLASS:PUBLIC
CREATED:20260422T115943
DESCRIPTION:Test
LAST-MODIFIED:20260422T115943
LOCATION:
SUMMARY:Test
URL;VALUE=URI:https://test.churchos.ca/events/test--18/2026-10-04
END:VEVENT
END:VCALENDAR
