BEGIN:VCALENDAR
VERSION:2.0
PRODID:icalendar-ruby
CALSCALE:GREGORIAN
METHOD:PUBLISH
BEGIN:VEVENT
DTSTAMP:20260423T001832Z
UID:18-13757876@test.churchos.ca
DTSTART:20261019T000000Z
DTEND:20261019T010000Z
CLASS:PUBLIC
CREATED:20260422T145455
DESCRIPTION:Test
LAST-MODIFIED:20260422T145455
LOCATION:
SUMMARY:Test
URL;VALUE=URI:https://test.churchos.ca/events/test--18/2026-10-18
END:VEVENT
END:VCALENDAR
