BEGIN:VCALENDAR
VERSION:2.0
PRODID:icalendar-ruby
CALSCALE:GREGORIAN
METHOD:PUBLISH
BEGIN:VEVENT
DTSTAMP:20260423T032646Z
UID:18-13764400@test.churchos.ca
DTSTART:20261102T010000Z
DTEND:20261102T020000Z
CLASS:PUBLIC
CREATED:20260422T174622
DESCRIPTION:Test
LAST-MODIFIED:20260422T174622
LOCATION:
SUMMARY:Test
URL;VALUE=URI:https://test.churchos.ca/events/test--18/2026-11-01
END:VEVENT
END:VCALENDAR
